BEGIN:VCALENDAR
VERSION:2.0
PRODID:-//Department of Neuroscience//NONSGML Events//EN
CALSCALE:GREGORIAN
X-ORIGINAL-URL:https://neuroscience.wustl.edu/events/
X-WR-CALDESC:Department of Neuroscience - Events
BEGIN:VEVENT
UID:20240423T1359Z-1713880797.4232-EO-23936-1@172.23.128.18
STATUS:CONFIRMED
DTSTAMP:20260424T185355Z
CREATED:20240423T135751Z
LAST-MODIFIED:20240423T135751Z
DTSTART;TZID=America/Chicago:20240916T090000
DTEND;TZID=America/Chicago:20240916T170000
SUMMARY: 2024 Computational Neuroscience Next Generation Symposium
DESCRIPTION: The Center for Theoretical & Computational Neuroscience at Was
 hU invites graduate students and postdocs to present their research.
X-ALT-DESC;FMTTYPE=text/html: <p>The Center for Theoretical & Computational
  Neuroscience at WashU invites graduate students and postdocs to present th
 eir research. This full-day symposium features talk and posters on cutting-
 edge research in theoretical and computational neuroscience.</p><p><a href=
 "https://ctcn.wustl.edu/next-gen-symposium/"><em>See details »</em></a></p>
CATEGORIES:Symposia
LOCATION:Neuroscience Research Building Auditorium
GEO:38.635602;-90.254892
ORGANIZER;CN="Brian":MAILTO:bmarston@wustl.edu
URL;VALUE=URI:https://neuroscience.wustl.edu/events/event/2024-computationa
 l-neuroscience-next-generation-symposium/
END:VEVENT
BEGIN:VTIMEZONE
TZID:America/Chicago
BEGIN:DAYLIGHT
TZOFFSETFROM:-0600
TZOFFSETTO:-0500
DTSTART:20240310T080000
TZNAME:CDT
END:DAYLIGHT
END:VTIMEZONE
END:VCALENDAR
